BEGIN:VCALENDAR
METHOD:PUBLISH
VERSION:2.0
PRODID:-//Eventilla iCal Syndication//NONSGML Liana//EN
BEGIN:VEVENT
UID:j1lpo@eventilla.com
DTSTAMP:20220713T150000Z
DTSTART:20220713T150000Z
DTEND:20220713T170000Z
SUMMARY:HCP 30-54 Pääkentän 9r kummikierros 13.7.
DESCRIPTION:HCP 30-54 Pääkentän kummikierros 9r\, etuysi\nHuomioithan muuttuneen päivämäärän. HCP 30-54 toimikunnan järjestämässä tapahtumassa pelataan pääkentällä 9 reikää kummien kanssa. Lähdöt ovat klo 18:00 eteenpäin ja jokaisessa lähdössä on mukana yksi kummi. Mukaan mahtuu 12 pelaajaa.\n \nTapahtuma on pelioikeuden omaaville maksuton\, ilman pelioikeutta 20€. Maksu suoritetaan Caddiemasterille ilmoittautumisen yhteydessä ennen tapahtumaa.
LOCATION:Aurinko Golf\, Vengantie 58\, 21110\, Naantali\, Suomi
URL:http://ilmoittaudu.aurinkogolf.fi/kummikierros1407
END:VEVENT
END:VCALENDAR
