BEGIN:VCALENDAR
METHOD:PUBLISH
VERSION:2.0
PRODID:-//Eventilla iCal Syndication//NONSGML Liana//EN
BEGIN:VEVENT
UID:jwNVE@eventilla.com
DTSTAMP:20230717T210000Z
DTSTART:20230717T210000Z
DTEND:20230719T210000Z
SUMMARY:GOLFPASSI SOUTH WEST TOUR 2023
DESCRIPTION:Aurinko Golfin\, Archipelagia Golfin ja Kankaisten Golfin yhteistyössä järjestämä South West Tour on kesän aurinkoisin kiertue\, jossa pelataan kolmen kierroksen kilpailu\, yksi kullakin mukana olevalla Turun alueen erinomaisella golfkentällä. Kiertuetta pelataan jo neljättä kertaa. Tänä vuonna matkassa on mukana Golfpassi ja pääpalkinnot ovat huimat!\nLähde Varsinais-Suomeen nauttimaan heinäkuisista pelikeleistä ja huippukuntoisista kentistä. Varmista oma paikkasi ilmoittautumalla nopeasti!\nMerkkaa kalenteriisi kisapäivät 18.-20.7.2023! Kiertue starttaa tänä kesänä Paraisten Archipelagia Golfista\, keskiviikkona pelataan Naantalin Aurinko Golfissa ja torstaina kiertue huipentuu finaalikierrokseen Kankaisten Golfissa Maskussa.\nKiertue on tarkoitettu niin vieraspelaajille kuin järjestävien seurojenkin pelaajille. Etenkin vieraspelaajille kiertue tarjoaa loistavan mahdollisuuden tutustua kolmen päivän aikana kolmeen huippukenttään pelaajaystävälliseen hintaan. Vietä kesälomaasi nauttien Varsinais-Suomen upeista kentistä ja aurinkoisista kesäkeleistä.\nKiertueen aikataulu 2023\n\nTi 18.7.\, Archipelagia Golf\nKe 19.7.\, Aurinko Golf\nTo 20.7.\, Kankaisten Golf\n\nSarjat\, yleinen\n\nTasoitus 15\,0 tai alle. Pelimuotona tasoituksellinen lyöntipeli\nTasoitus 15\,1 tai enemmän\, pelimuotona pistebogey. Suurin huomioitava tasoitus 36.​​​​​​​\n\n \nTii: Miehet keltainen\, naiset punainen\nFinaalikierroksen (Kankaisten Golf) lähtöjen asettelussa huomioidaan sijoittuminen kiertueella.\nTasatulostilanteissa järjestys ratkaistaan ensin slopen mukaan\, jolloin pienemmällä tasoituksella pelannut pelaaja voittaa. Mikäli pelaajien slope on sama\, ratkaistaan tulos matemaattisesti.\nPalkintopöytä huippuluokkaa - voittajille Golfpassin matka Korineum Golfiin\nMolemmista sarjoista palkitaan jokaisen osakilpailun kolme parasta sekä kokonaiskilpailun viisi parasta pelaajaa. Kummankin sarjan kiertuuen voittajalle on luvassa Golfpassin matka Korineum Golf & Beach Resortiin\, Kyreniaan\, Pohjois-Kyprokselle!\nVoittajat nappaavat siis todella itselleen Golfpassin 7vrk matkan Korineum Golf & Beach Resortiin valitsemanaan ajankohtana (Korkeimman sesongin juhlapyhä ja loma-aikoina lisämaksu mahdollinen). Lähtöjä on viikottain syksystä kevääseen asti!\nVoittajan palkintomatkan sisältö:\n\nMajoitus 7 vrk Korineum Golf & Beach Resort * * * * + kahden hengen huoneessa\nFinnairin / Norwegian reittilennot Helsinki – Larnaca – Helsinki sis. käsimatkatavaran ja matkalaukun ruumaan 23 kg\nPuolihoito (aamiainen ja päivällinen)\n5 x päivä green fee Korineum Golf & Country Club\nEtukäteen varatut parhaat tiiajat klo 9-11\nLentokenttäkuljetukset kohteessa\nGolfpassin matkanvetäjän matkapalvelut kohteessa\n\n \nGolfbägin kuljetus lennoilla lisämaksusta: Finnair 58€ / Norwegian 70€\nKatso esimerkkimatkan tiedot klikkaamalla tästä.Tutustu Golfpassin matkavalikoimaan Golfpassin kotisivuilla osoitteessa Golfpassi.fi .\n \nKilpailumaksu & osallistujamäärä\nKiertueen kilpailumaksu 135 € / pelaaja. Kilpailumaksu sisältää kierrosmaksun kolmelle kilpailukierrokselle sekä ruokailun jokaisen kilpailukerroksen yhteydessä.\nMaksimiosallistujamäärä 108 pelaajaa.\nVarausmaksu 45€ maksetaan ilmoittautumisen yhteydessä\, loppuosa kilpailumaksusta maksetaan ennen ensimmäisen kilpailukierroksen alkamista Archipelagia Golfissa.\n \nIlmoittautuminen aukeaa keskiviikkona 24.5.2023 kello 12.00.
LOCATION:
URL:http://ilmoittaudu.aurinkogolf.fi/southwesttour
END:VEVENT
END:VCALENDAR
