BEGIN:VCALENDAR
METHOD:PUBLISH
VERSION:2.0
PRODID:-//Eventilla iCal Syndication//NONSGML Liana//EN
BEGIN:VEVENT
UID:m9a37@eventilla.com
DTSTAMP:20220925T090000Z
DTSTART:20220925T090000Z
DTEND:20220925T130000Z
SUMMARY:HCP 30-54 Kenttävierailu AlGo 18r kummien kanssa
DESCRIPTION:HCP 30-54 Kenttävierailu Alastaro Golf 18R kummien kanssa\nHCP 30-54 toimikunta järjestää kenttävierailun Alastaro Golfiin sunnuntaina 25.9.\nPeräkkäiset lähdöt klo 12:00 alkaen\, lähdöissä mukana kummi.\nIlmoittautuminen 18.9. mennessä Tapahtumakoneen kautta tai caddiemasterille\, puh. 0300 45 900.\nHinta: 30e\nMukaan mahtuu 15 osallistujaa. Kierroksen maksu suoritetaan Alastaron Caddiemasterille ennen kierrosta. Kummi ottaa oman lähdön pelaajat mukaansa klubitalon edestä 10 minuuttia ennen lähtöaikaa.
LOCATION:Alastaro Golf\, Golfkentäntie 195\, 32560\, Virttaa\, Suomi
URL:http://ilmoittaudu.aurinkogolf.fi/kenttavierailu_algo
END:VEVENT
END:VCALENDAR
