BEGIN:VCALENDAR
METHOD:PUBLISH
VERSION:2.0
PRODID:-//Eventilla iCal Syndication//NONSGML Liana//EN
BEGIN:VEVENT
UID:ml5XN@eventilla.com
DTSTAMP:20220706T120000Z
DTSTART:20220706T120000Z
DTEND:20220706T160000Z
SUMMARY:Saariston Ladyt\, Kultaranta Golf Club
DESCRIPTION:Saariston Ladyt @ KGCN 6.7.\nTervetuloa Saariston Ladyt -kilpailuun Kultaranta Golf Clubille. Saariston Ladyt -kiertue on pelitapahtuma\, joka pelataan kesän 2022 aikana kolmella eri kentällä nauttien pelistä ja hyvästä seurasta. Ensimmäinen osakilpailu pelattiin Aurinko Golfissa 14.6. ja kolmas osakilpailu pelataan Kankaisten Golfissa 10.8.\nKiertua pelataan tänä vuonna seurojen välisenä kilpailuna. Viiden parhaan pistebogey tulos lasketaan yhteen jokaisen osakilpailun jälkeen ja voittajaseura selviää viimeisessä tapahtumassa.\nPAIKKA: Kultaranta Colf ClubAIKA: keskiviikko 6.7. klo 15:00 alkaenPELIMUOTO: pistebogey hcp\nILMOITTAUTUMINEN Jokainen pelaaja ilmoittautuu tapahtumaan oman seuran kautta. Ilmoittautuminen alkaa 18.6. klo 12:00 ja päättyy 3.7. klo 18:00. Ilmoittautua voit Tapahtumakoneen kautta tai caddiemasterille: info@aurinkogolf.fi / 0300 45 900.\nKILPAILUMAKSUT: 50€.Maksu sisältää Greenfeen sekä iltapalan kierroksen jälkeen.\nLämpimästi tervetuloa!
LOCATION:Kultaranta Golf Club\, Särkänsalmentie 178\, 21100\, Naantali\,
 Suomi
URL:http://ilmoittaudu.aurinkogolf.fi/saaristonladyt
END:VEVENT
END:VCALENDAR
